BEGIN:VCALENDAR
VERSION:2.0
PRODID:-//wp-events-plugin.com//7.2.3.1//EN
BEGIN:VEVENT
UID:20@jaredfranks.com
DTSTART;VALUE=DATE:20241018
DTEND;VALUE=DATE:20241026
DTSTAMP:20240706T192729Z
URL:https://www.jaredfranks.com/events/the-leela-depth-immersion-us-retrea
 t-2-2024-details-to-come/
SUMMARY:The Leela Depth Immersion US – Retreat #2 2024 (details to come)
DESCRIPTION:In-Person &amp\; online Retreat/Course ~ 8 days ~ 50 hours\n\nT
 his retreat is for those that are in our Depth Immersion or Skills Immersi
 on Course.  But no pre-requisite is needed to attend. This retreat is ope
 n to everyone.\n\nDates: October 18 – 25\, 2024\n\nThis retreat can be a
 ttended in-person or online via Zoom. Please let us know how you will be a
 ttending by putting a note in the notes section of your registration.\n\nR
 egister via the Leela School retreat page here.\n\nLocation (for in-person
  participants):\n\nJackson Wellsprings\n2253 Oregon Hwy 99 N\nAshland\, OR
  97520\n\nOnsite Camping / Domes and Tepees are available.  For more info
 rmation please click here: https://www.jacksonwellsprings.com/campground\
 n*To Book a spot please contact Jackson Wellsprings directly (by phone) an
 d let them know you are with The Leela School.\n\nSchedule (in US Pacific 
 Time):\nFriday October 18:Three Meetings at 11am\, 3pm and 6:30pm\nSaturda
 y October 19: Three Meetings at 10am\, 1pm (combined with Leela Saturday)
  and 4:30pm\nSunday October 20 – Thursday October 24: Three Meetings per
  day at 11am\, 3pm and 6:30pm\nFriday October 25: Last meeting at 11am\n\n
 Each Meeting lasts approximately 90 minutes.\n\nRegister via the Leela Sch
 ool retreat page here.\n\n\nCancellation policy\nIf you need to cancel you
 r registration\, please email us at info@leela.org\nIf you cancel more th
 an 30 days before the retreat begins  your full payment minus $50.00 will
  be refunded. After that no refunds are given.\n\n\n\n\nThis course is equ
 al to 20 CEUs (Continuing Education Units) for students applying for advan
 ced certification or certification renewals.\n\n
ATTACH;FMTTYPE=image/jpeg:https://www.jaredfranks.com/wp-content/uploads/2
 024/01/lisa_jared_eli_bench-scaled.jpg
CATEGORIES:Leela School,Retreat,Satsang,Self-Inquiry,USA
END:VEVENT
END:VCALENDAR