BEGIN:VCALENDAR
VERSION:2.0
PRODID:-//wp-events-plugin.com//7.2.3.1//EN
BEGIN:VEVENT
UID:145@jaredfranks.com
DTSTART;TZID=Australia/Perth;VALUE=DATE:20251003
DTEND;TZID=Australia/Perth;VALUE=DATE:20251006
DTSTAMP:20250806T215855Z
URL:https://www.jaredfranks.com/events/the-untouched-self-retreat-with-jar
 ed-in-denmark-au/
SUMMARY:The Untouched Self: Retreat with Jared in Denmark\, AU
DESCRIPTION:The Untouched Self: Rediscovering What Is Always Here\nWe spend
  our lives building a self image\, trying to be somebody. Somebody success
 ful\, somebody loveable\, somebody safe. Who we are seems to change as we 
 grow older. Our roles change\, responsibilities change\, bodies change\, r
 elationships change. We are fixated on what changes.\nThe invitation here 
 is to discover what has always been here that has never changed. To discov
 er the ground of Being. Silent presence that is who you are the deepest le
 vel.\nSri Ramana Maharshi\, my teacher’s teacher’s teacher\, once said
  “ what comes and goes is not real. Find out what is Always here.” Thi
 s is the source of all thoughts\, all emotions. The source of intelligence
 . You have never left yourself\, only imagined that you have. Stopping all
  imagination in this moment is the opening to this field of infinite prese
 nce.\nJoin Jared and the WA community in this retreat which is an opportun
 ity to retreat from the mind and its myriad creations\, to rest as the sil
 ence of this moment.\n\n \n\n\nReserve Your Spot with the Leela School ⏎
 \n\n\nImportant Details\nTuition: *Early Bird Price of $325 AUD until Sept
 ember 5\, 2025*\nNormal Price: $385 AUD\n\nLocation:\nLyra House\n77 Inlet
  Drive\nDenmark\, WA Australia\n\nThe stunning nature and beautiful mud br
 ick building of Lyra House will be our sanctuary and refuge for deepening.
  The grounds are set upon a hill with access to the inlet and there will b
 e space to walk\, rest &amp\; be or to retire back to your accommodation o
 r find yourself held by the natural beauty that this area offers\, be it r
 iver\, ocean or forest.\n\nThere is ample parking &amp\; a kitchen with a 
 fridge and possibility to heat food if need be.\n\nReserve Your Spot with 
 the Leela School ⏎\nRetreat Schedule:\nFriday October 3rd:  First Meeti
 ng 6:30pm – 8pm (Combined with Open Meeting)\nSaturday October 4th:  Th
 ree Meetings at 9:30am – 11am\, 2pm – 3:30pm and 5:30pm – 7pm\nSunda
 y October 5th:  Three Meetings at 9am – 10:30am\, 12:30pm – 2pm and 5
 pm – 6:30pm\nFor inquiries please contact local host Kate – kate_lee@y
 7mail.com
ATTACH;FMTTYPE=image/jpeg:https://www.jaredfranks.com/wp-content/uploads/2
 025/08/greens-pool-denmark.jpg
CATEGORIES:Australia,Retreat
LOCATION:Lyra House\, 77 Inlet Drive\, Denmark\, Western Australia\, Austra
 lia
X-APPLE-STRUCTURED-LOCATION;VALUE=URI;X-ADDRESS=77 Inlet Drive\, Denmark\, 
 Western Australia\, Australia;X-APPLE-RADIUS=100;X-TITLE=Lyra House:geo:0,
 0
END:VEVENT
BEGIN:VTIMEZONE
TZID:Australia/Perth
X-LIC-LOCATION:Australia/Perth
BEGIN:STANDARD
DTSTART:20241003T000000
TZOFFSETFROM:+0800
TZOFFSETTO:+0800
TZNAME:AWST
END:STANDARD
END:VTIMEZONE
END:VCALENDAR