BEGIN:VCALENDAR
VERSION:2.0
PRODID:-//wp-events-plugin.com//7.2.3.1//EN
BEGIN:VEVENT
UID:207@jaredfranks.com
DTSTART;TZID=Australia/Sydney;VALUE=DATE:20260501
DTEND;TZID=Australia/Sydney;VALUE=DATE:20260504
DTSTAMP:20260220T081242Z
URL:https://www.jaredfranks.com/events/weekend-inquiry-retreat-with-jared-
 at-the-goodness-gallery/
SUMMARY:Weekend of Self-Inquiry with Jared at the Goodness Gallery
DESCRIPTION:The End of the Spiritual Path\nWeekend of Self-Inquiry with Jar
 ed\nWe are so lucky at this time\, to have access to so many beautiful tea
 chers and teachings including great masters from generations past.\n\nWith
  this support we can discover profound states of Bliss\, transcendence of 
 trauma\, and find freshness and aliveness in this moment.\n\nFor most thou
 gh\, spirituality is experienced as a path. The seeking of new and wonderf
 ul experiences\, new and wonderful teachings and deeper states of Bliss. I
 t becomes a continual ongoing search. In fact\, quite often it becomes a n
 ew identity\, a spiritual identity. There is a spiritual me that becomes a
 n upgraded egoic identity with inflation. It can even be competitive. Who 
 is more spiritual or more awake?\n\nWhat if you stopped your search on you
 r spiritual path? Who would you be without spiritual identity?\n\nIt’s p
 ossible to end all paths in this moment.\n\nTo let go of teacher or teachi
 ng. To discover life here and now. The pathless path. Pure being here now.
 \n\nAll spiritual paths lead to the same place: your True Nature\, which h
 as been here all along\, ready to be revealed whenever you’re willing to
  put down the search.\n\n&nbsp\;\nDetails:\nFriday May 1st: Meeting at 6pm
 \n\nSaturday May 2nd: Meetings at 10am - 2pm - 5pm\n\nSunday May 3rd: Meet
 ings at 10am - 2:30pm\n\nThe Gallery space is limited\, so we are setting 
 a capacity of 25 people.\n\n&nbsp\;\nContribution\n$400 for the Weekend.\n
 \nBank transfer\, cash\, or online payments are all accepted.\nJoin us and
  pay tuition here ↗\n&nbsp\;\nVenue:\nThe Goodness Gallery\n\nGalleon Ln
 \, Brunswick Heads\n\nFind for the sign next to the wooden gate on Galleon
  Ln\, (Park on Teven St or Tweed St).\n\n
ATTACH;FMTTYPE=image/jpeg:https://www.jaredfranks.com/wp-content/uploads/2
 025/12/Jared_Bruns-14-scaled.jpg
CATEGORIES:Australia,Byron Bay,Retreat
LOCATION:https://www.jaredfranks.com/product/weekend-of-inquiry-goodness-ga
 llery/
END:VEVENT
BEGIN:VTIMEZONE
TZID:Australia/Sydney
X-LIC-LOCATION:Australia/Sydney
BEGIN:STANDARD
DTSTART:20260405T020000
TZOFFSETFROM:+1100
TZOFFSETTO:+1000
TZNAME:AEST
END:STANDARD
END:VTIMEZONE
END:VCALENDAR