BEGIN:VCALENDAR
VERSION:2.0
PRODID:-//wp-events-plugin.com//7.2.3.1//EN
BEGIN:VEVENT
UID:210@jaredfranks.com
DTSTART;TZID=Europe/Berlin;VALUE=DATE:20260717
DTEND;TZID=Europe/Berlin;VALUE=DATE:20260720
DTSTAMP:20260227T063631Z
URL:https://www.jaredfranks.com/events/weekend-retreat-with-jared-in-munic
 h/
SUMMARY:Weekend Retreat with Jared in Munich
DESCRIPTION:\n\n\n\nDiscovering Stillness in the Core of Being\n\nWeekend R
 etreat with Jared in Munich\, Germany\nJuly 17 – 19\, 2026\nOur minds ar
 e focused on the objects of the world\; the ever changing circumstances\, 
 our thoughts and judgments\, and our emotional state. What if we for a mom
 ent stop this fascination with what is always changing\, and discover what
  is here and now\, unchanging and completely still.\n\nHere there is clari
 ty\, silence\, presence\, and love. But you have to be willing for one mom
 ent to stop and turn your attention away from objects\, to the subject. To
  your own Self\, conscious and alive in this moment.\nRetreat Details &amp
 \; Bookings\nTuition: 325€ Euros ($384 USD)\nEarly Bird until June 19th:
  300€ Euros ($354 USD)\nThe Leela School website takes payments in USD. 
 To pay in Euros please contact Leigh at leigh@leela.org\nBook Your Spot\nL
 ocation:\nmia-Raum für Begegnung\nSteinkirchnerstr. 27\n81475 München\, 
 Germany\n\nMeeting Times in EU CEST Times:\n\n\nMeeting Times:\nOpen Meeti
 ng on Friday July 17th: 6:30pm\nSaturday July 18th: Meetings at 10am\, 2pm
  and 5:30pm\nSunday July 19th: Meetings at 10am and 2pm\n\nEach session la
 sts 1.5 to 2h\n\nLanguage: English\nThe group will support you if you need
  translation.\n\nThese are in-person meetings and will not be shown online
 .\n\nRetreat Host: Morena Kops\, morena.kops@outlook.de
ATTACH;FMTTYPE=image/jpeg:https://www.jaredfranks.com/wp-content/uploads/2
 026/01/Jared-23.06.25-66.jpeg
CATEGORIES:Europe,Leela School,Retreat,Satsang,Self-Inquiry
LOCATION:https://www.leelaschool.org/product/discovering-stillness-in-the-c
 ore-of-being-retreat-with-jared-in-munich/
END:VEVENT
BEGIN:VTIMEZONE
TZID:Europe/Berlin
X-LIC-LOCATION:Europe/Berlin
BEGIN:DAYLIGHT
DTSTART:20260329T030000
TZOFFSETFROM:+0100
TZOFFSETTO:+0200
TZNAME:CEST
END:DAYLIGHT
END:VTIMEZONE
END:VCALENDAR