BEGIN:VCALENDAR
VERSION:2.0
PRODID:-//wp-events-plugin.com//7.2.3.1//EN
BEGIN:VEVENT
UID:22@jaredfranks.com
DTSTART:20250114T183000Z
DTEND:20250114T200000Z
DTSTAMP:20250122T235210Z
URL:https://www.jaredfranks.com/events/weekly-in-person-open-meetings-in-b
 runswick-heads-december-january/
SUMMARY:Weekly In-Person Inquiry Meetings in Brunswick Heads with Jared
DESCRIPTION:You are warmly invited to these weekly Open Meetings with Jared
 \, where you will receive direct support to turn your attention inward to 
 find who you are. With the possibility to ask questions directly to Jared\
 , and observe others sharing their questions and insights\, there is a dee
 pening clarity and surrender into the heart when we gather in these meetin
 gs.\n\nThe next open meeting dates are January 14\, 21\, and February 18\,
  just before Jared hosts the Retreat in Ubud\, Bali.\n\nVenue:\n\nThe Good
 ness Gallery\n\nGalleon Ln\, Brunswick Heads\n\nFind for the sign next to 
 the wooden gate on Galleon Ln\, (Park on Teven St or Tweed St).\n\nTime: 
  6.30pm\n\nOpen for all who would like to attend with a suggested donation
  of $20.\n\nNo registration is necessary.\n\nPlease bring a cushion to sit
  on.
ATTACH;FMTTYPE=image/jpeg:https://www.jaredfranks.com/wp-content/uploads/2
 024/12/457058999_922690263233221_1859627456472337400_n.jpg
CATEGORIES:Australia,Mindfulness,Open Meeting,Satsang,Self-Inquiry
END:VEVENT
END:VCALENDAR