BEGIN:VCALENDAR
VERSION:2.0
PRODID:-//wp-events-plugin.com//7.2.3.1//EN
BEGIN:VEVENT
UID:105@jaredfranks.com
DTSTART;TZID=Australia/Sydney:20250805T180000
DTEND;TZID=Australia/Sydney:20250805T193000
DTSTAMP:20250122T235110Z
URL:https://www.jaredfranks.com/events/weekly-in-person-open-meetings-in-b
 runswick-heads-with-jared-2025-08-05/
SUMMARY:Weekly In-Person Inquiry Meetings with Jared (Brunswick Heads)
DESCRIPTION:You are warmly invited to these weekly Open Meetings with Jared
 \, where you will receive direct support to turn your attention inward to 
 find who you are. \n\nWith the possibility to ask questions directly to Ja
 red\, and observe others sharing their questions and insights\, there is a
  deepening clarity and surrender into the heart when we gather in these me
 etings.\n\n&nbsp\;\n\nVenue:\n\nThe Goodness Gallery\n\nGalleon Ln\, Bruns
 wick Heads\n\nFind for the sign next to the wooden gate on Galleon Ln\, (P
 ark on Teven St or Tweed St).\n\nTime:  6:00pm ~ approx. 7:30pm\n\nOpen f
 or all who would like to attend with a suggested donation of $20.\n\nJared
 's online donation link: https://paypal.me/jaredfrankslove\n\nNo registrat
 ion is necessary.\n\nPlease bring a cushion to sit on if you want to make 
 yourself more comfortable. Chairs are limited.
ATTACH;FMTTYPE=image/jpeg:https://www.jaredfranks.com/wp-content/uploads/2
 025/01/1.png
CATEGORIES:Australia,Byron Bay,Open Meeting
LOCATION:Goodness Gallery\, Galleon Lane\, Brunswick Heads\, NSW\, Australi
 a
X-APPLE-STRUCTURED-LOCATION;VALUE=URI;X-ADDRESS=Galleon Lane\, Brunswick He
 ads\, NSW\, Australia;X-APPLE-RADIUS=100;X-TITLE=Goodness Gallery:geo:0,0
END:VEVENT
BEGIN:VTIMEZONE
TZID:Australia/Sydney
X-LIC-LOCATION:Australia/Sydney
BEGIN:STANDARD
DTSTART:20250406T020000
TZOFFSETFROM:+1100
TZOFFSETTO:+1000
TZNAME:AEST
END:STANDARD
END:VTIMEZONE
END:VCALENDAR