BEGIN:VCALENDAR
VERSION:2.0
PRODID:-//wp-events-plugin.com//7.2.3.1//EN
BEGIN:VEVENT
UID:163@jaredfranks.com
DTSTART;TZID=Australia/Sydney:20260414T173000
DTEND;TZID=Australia/Sydney:20260414T190000
DTSTAMP:20260205T065127Z
URL:https://www.jaredfranks.com/events/weekly-in-person-open-meetings-in-b
 runswick-heads-with-jared-2026-04-14/
SUMMARY:Enneagram Inquiry Meeting with Jared (Brunswick Heads)
DESCRIPTION:Exploring the Enneagram for Awakening\nFor these local meetings
  leading up to the Enneagram Retreat in Lennox Head this April\, we will p
 lace a gentle but focused attention on the Enneagram as a tool for awakeni
 ng. These sessions will serve both as an introduction for those new to the
  Enneagram and a deepening for those already familiar. No prior knowledge 
 is needed. You are welcome to simply come as you are\, and if it feels ali
 gned\, join the five-day retreat in April to continue and deepen your inqu
 iry.\n\nYou are warmly invited to these weekly Open Meetings with Jared\, 
 where you will receive direct support to turn your attention inward to fin
 d who you are. \n\nWith the possibility to ask questions directly to Jared
 \, and observe others sharing their questions and insights\, there is a de
 epening clarity and surrender into the heart when we gather in these meeti
 ngs.\n\n&nbsp\;\n\nVenue:\n\nThe Goodness Gallery\n\nGalleon Ln\, Brunswic
 k Heads\n\nFind for the sign next to the wooden gate on Galleon Ln\, (Park
  on Teven St or Tweed St).\n\nTime:  5:30pm ~ approx. 7:00pm\n\nOpen for 
 all who would like to attend with a suggested donation of $20 at the door.
 \n\nNo registration is necessary.\n\nPlease bring a cushion to make yourse
 lf more comfortable. Chairs are limited.
ATTACH;FMTTYPE=image/jpeg:https://www.jaredfranks.com/wp-content/uploads/2
 025/09/Jared_Bruns-9-scaled.jpg
CATEGORIES:Australia,Byron Bay,Open Meeting
LOCATION:Goodness Gallery\, Galleon Lane\, Brunswick Heads\, NSW\, Australi
 a
X-APPLE-STRUCTURED-LOCATION;VALUE=URI;X-ADDRESS=Galleon Lane\, Brunswick He
 ads\, NSW\, Australia;X-APPLE-RADIUS=100;X-TITLE=Goodness Gallery:geo:0,0
END:VEVENT
BEGIN:VTIMEZONE
TZID:Australia/Sydney
X-LIC-LOCATION:Australia/Sydney
BEGIN:STANDARD
DTSTART:20260405T020000
TZOFFSETFROM:+1100
TZOFFSETTO:+1000
TZNAME:AEST
END:STANDARD
END:VTIMEZONE
END:VCALENDAR