BEGIN:VCALENDAR
VERSION:2.0
PRODID:-//wp-events-plugin.com//7.2.3.1//EN
BEGIN:VEVENT
UID:14@jaredfranks.com
DTSTART;TZID=Pacific/Auckland:20240809T180000
DTEND;TZID=Pacific/Auckland:20240811T180000
DTSTAMP:20240729T231413Z
URL:https://www.jaredfranks.com/events/yes-to-love-with-jared-in-auckland/
SUMMARY:Yes to Love\, with Jared in Auckland
DESCRIPTION:Love is here\, as the ground of Being. Covered by endless layer
 s of beliefs and idea about who we are\, we lose conscious contact with ou
 r natural true self. In the willingness to stop and inquire into who you r
 eally are\, there is a possibility to realise yourself as love itself\, as
  life itself. Stopping and waking up out of the conditioned mind is a “y
 es” to this moment\, a full yes to yourself\, and this is love.\nJoin Ja
 red and the Auckland community in this container for self inquiry\, to mee
 t yourself freshly and discover what you want at the deepest level.\nCost:
  $375 (NZ)\,  $344 (AUD)\n\nRegister Here:\n\nhttps://leelaschool.org/p
 roduct/yes-to-love-with-jared-in-auckland/\n\nVenue:\nVartamana Retreat Ce
 ntre\n1119 Scenic Drive\, Swanson\, Auckland\, New Zealand\n\nTimes (all i
 n NZST):\nFriday August 9th: First meeting at 6pm\nSaturday August 10th: M
 eetings at 10am\, 2pm and 5pm\nSunday August 11th: Meetings at 10am and 2p
 m\n\nLocal host Dianne: dianne.rassie@gmail.com
ATTACH;FMTTYPE=image/jpeg:https://www.jaredfranks.com/wp-content/uploads/2
 024/04/330515525_545584267643181_268114148566655506_n.jpg
CATEGORIES:NZ,Retreat,Satsang,Self-Inquiry
END:VEVENT
BEGIN:VTIMEZONE
TZID:Pacific/Auckland
X-LIC-LOCATION:Pacific/Auckland
BEGIN:STANDARD
DTSTART:20240407T020000
TZOFFSETFROM:+1300
TZOFFSETTO:+1200
TZNAME:NZST
END:STANDARD
END:VTIMEZONE
END:VCALENDAR